Package: pRolocGUI Version: 2.19.0 Command: /home/biocbuild/bbs-3.22-bioc/R/bin/R CMD INSTALL pRolocGUI StartedAt: 2025-10-24 15:49:16 -0400 (Fri, 24 Oct 2025) EndedAt: 2025-10-24 15:50:08 -0400 (Fri, 24 Oct 2025) EllapsedTime: 51.7 seconds RetCode: 0 Status: OK