Package: pRoloc Version: 1.49.3 Command: /home/biocbuild/bbs-3.22-bioc/R/bin/R CMD INSTALL pRoloc StartedAt: 2025-10-24 15:47:55 -0400 (Fri, 24 Oct 2025) EndedAt: 2025-10-24 15:49:16 -0400 (Fri, 24 Oct 2025) EllapsedTime: 81.0 seconds RetCode: 0 Status: OK