Package: pRoloc Version: 1.49.3 Command: /home/biocbuild/bbs-3.22-bioc/R/bin/R CMD build --keep-empty-dirs --no-resave-data --md5 pRoloc StartedAt: 2025-10-24 19:32:28 -0400 (Fri, 24 Oct 2025) EndedAt: 2025-10-24 19:36:19 -0400 (Fri, 24 Oct 2025) EllapsedTime: 231.2 seconds RetCode: 0 Status: OK PackageFile: pRoloc_1.49.3.tar.gz PackageFileSize: 10.81 MiB