Package: pRoloc Version: 1.50.0 Command: /Library/Frameworks/R.framework/Resources/bin/R CMD INSTALL pRoloc StartedAt: 2025-11-10 15:22:09 -0500 (Mon, 10 Nov 2025) EndedAt: 2025-11-10 15:22:39 -0500 (Mon, 10 Nov 2025) EllapsedTime: 30.4 seconds RetCode: 0 Status: OK