Package: pRoloc Version: 1.50.0 Command: /Library/Frameworks/R.framework/Resources/bin/R CMD build --keep-empty-dirs --no-resave-data pRoloc StartedAt: 2025-11-10 17:24:16 -0500 (Mon, 10 Nov 2025) EndedAt: 2025-11-10 17:25:44 -0500 (Mon, 10 Nov 2025) EllapsedTime: 88.0 seconds RetCode: 0 Status: OK PackageFile: pRoloc_1.50.0.tar.gz PackageFileSize: 10.95 MiB