Package: pRoloc Version: 1.50.0 Command: rm -rf pRoloc.buildbin-libdir && mkdir pRoloc.buildbin-libdir && /Users/biocbuild/BBS/utils/build-universal.sh pRoloc_1.50.0.tar.gz /Library/Frameworks/R.framework/Resources/bin/R pRoloc.buildbin-libdir StartedAt: 2025-11-10 23:31:48 -0500 (Mon, 10 Nov 2025) EndedAt: 2025-11-10 23:32:21 -0500 (Mon, 10 Nov 2025) EllapsedTime: 33.7 seconds RetCode: 0 Status: OK PackageFile: pRoloc_1.50.0.tgz PackageFileSize: 10.27 MiB