Package: optimalFlow Version: 1.22.0 Command: /Library/Frameworks/R.framework/Resources/bin/R CMD INSTALL optimalFlow StartedAt: 2025-11-10 15:07:26 -0500 (Mon, 10 Nov 2025) EndedAt: 2025-11-10 15:07:35 -0500 (Mon, 10 Nov 2025) EllapsedTime: 8.8 seconds RetCode: 0 Status: OK