Package: optimalFlow Version: 1.22.0 Command: rm -rf optimalFlow.buildbin-libdir && mkdir optimalFlow.buildbin-libdir && /Users/biocbuild/BBS/utils/build-universal.sh optimalFlow_1.22.0.tar.gz /Library/Frameworks/R.framework/Resources/bin/R optimalFlow.buildbin-libdir StartedAt: 2025-11-10 23:30:20 -0500 (Mon, 10 Nov 2025) EndedAt: 2025-11-10 23:30:32 -0500 (Mon, 10 Nov 2025) EllapsedTime: 12.2 seconds RetCode: 0 Status: OK PackageFile: optimalFlow_1.22.0.tgz PackageFileSize: 1.104 MiB