Package: openPrimeR Version: 1.31.1 Command: /home/biocbuild/bbs-3.22-bioc/R/bin/R CMD INSTALL openPrimeR StartedAt: 2025-10-24 16:01:19 -0400 (Fri, 24 Oct 2025) EndedAt: 2025-10-24 16:01:48 -0400 (Fri, 24 Oct 2025) EllapsedTime: 28.9 seconds RetCode: 0 Status: OK