Package: openCyto Version: 2.22.0 Command: /home/biocbuild/bbs-3.22-bioc/R/bin/R CMD INSTALL openCyto StartedAt: 2025-11-16 15:41:49 -0500 (Sun, 16 Nov 2025) EndedAt: 2025-11-16 15:42:21 -0500 (Sun, 16 Nov 2025) EllapsedTime: 32.3 seconds RetCode: 0 Status: OK