Package: openCyto Version: 2.22.0 Command: /home/biocbuild/bbs-3.22-bioc/R/bin/R CMD build --keep-empty-dirs --no-resave-data --md5 openCyto StartedAt: 2025-11-16 19:14:51 -0500 (Sun, 16 Nov 2025) EndedAt: 2025-11-16 19:16:07 -0500 (Sun, 16 Nov 2025) EllapsedTime: 76.1 seconds RetCode: 0 Status: OK PackageFile: openCyto_2.22.0.tar.gz PackageFileSize: 1.776 MiB