Package: ontoProc Version: 2.4.0 Command: /home/biocbuild/bbs-3.22-bioc/R/bin/R CMD INSTALL ontoProc StartedAt: 2025-10-29 21:52:07 -0400 (Wed, 29 Oct 2025) EndedAt: 2025-10-29 21:52:40 -0400 (Wed, 29 Oct 2025) EllapsedTime: 33.1 seconds RetCode: 0 Status: OK