Package: ontoProc Version: 2.4.0 Command: /home/biocbuild/bbs-3.22-bioc/R/bin/R CMD build --keep-empty-dirs --no-resave-data --md5 ontoProc StartedAt: 2025-10-30 01:30:27 -0400 (Thu, 30 Oct 2025) EndedAt: 2025-10-30 01:38:28 -0400 (Thu, 30 Oct 2025) EllapsedTime: 480.5 seconds RetCode: 0 Status: OK PackageFile: ontoProc_2.4.0.tar.gz PackageFileSize: 13.76 MiB