Package: onlineFDR Version: 2.18.0 Command: /home/biocbuild/bbs-3.22-bioc/R/bin/R CMD INSTALL onlineFDR StartedAt: 2025-11-06 15:01:59 -0500 (Thu, 06 Nov 2025) EndedAt: 2025-11-06 15:03:01 -0500 (Thu, 06 Nov 2025) EllapsedTime: 61.2 seconds RetCode: 0 Status: OK