Package: onlineFDR Version: 2.18.0 Command: /home/biocbuild/bbs-3.22-bioc/R/bin/R CMD build --keep-empty-dirs --no-resave-data --md5 onlineFDR StartedAt: 2025-11-06 19:06:54 -0500 (Thu, 06 Nov 2025) EndedAt: 2025-11-06 19:07:47 -0500 (Thu, 06 Nov 2025) EllapsedTime: 53.1 seconds RetCode: 0 Status: OK PackageFile: onlineFDR_2.18.0.tar.gz PackageFileSize: 1.921 MiB