Package: oncomix Version: 1.32.0 Command: /home/biocbuild/bbs-3.22-bioc/R/bin/R CMD INSTALL oncomix StartedAt: 2025-11-17 17:45:00 -0500 (Mon, 17 Nov 2025) EndedAt: 2025-11-17 17:45:26 -0500 (Mon, 17 Nov 2025) EllapsedTime: 25.9 seconds RetCode: 0 Status: OK