Package: ompBAM Version: 1.13.0 Command: /home/biocbuild/bbs-3.22-bioc/R/bin/R CMD INSTALL ompBAM StartedAt: 2025-10-24 15:12:52 -0400 (Fri, 24 Oct 2025) EndedAt: 2025-10-24 15:12:56 -0400 (Fri, 24 Oct 2025) EllapsedTime: 4.6 seconds RetCode: 0 Status: OK