Package: ompBAM Version: 1.14.0 Command: /Library/Frameworks/R.framework/Resources/bin/R CMD INSTALL ompBAM StartedAt: 2025-11-03 15:09:16 -0500 (Mon, 03 Nov 2025) EndedAt: 2025-11-03 15:09:35 -0500 (Mon, 03 Nov 2025) EllapsedTime: 18.8 seconds RetCode: 0 Status: OK