Package: ompBAM Version: 1.14.0 Command: /Library/Frameworks/R.framework/Resources/bin/R CMD build --keep-empty-dirs --no-resave-data ompBAM StartedAt: 2025-11-03 18:05:03 -0500 (Mon, 03 Nov 2025) EndedAt: 2025-11-03 18:05:32 -0500 (Mon, 03 Nov 2025) EllapsedTime: 28.5 seconds RetCode: 0 Status: OK PackageFile: ompBAM_1.14.0.tar.gz PackageFileSize: 3.142 MiB