Package: ompBAM Version: 1.14.0 Command: /Library/Frameworks/R.framework/Resources/bin/R CMD INSTALL ompBAM StartedAt: 2025-11-06 15:01:34 -0500 (Thu, 06 Nov 2025) EndedAt: 2025-11-06 15:01:36 -0500 (Thu, 06 Nov 2025) EllapsedTime: 2.4 seconds RetCode: 0 Status: OK