Package: ompBAM Version: 1.14.0 Command: /Library/Frameworks/R.framework/Resources/bin/R CMD build --keep-empty-dirs --no-resave-data ompBAM StartedAt: 2025-11-06 17:14:47 -0500 (Thu, 06 Nov 2025) EndedAt: 2025-11-06 17:14:57 -0500 (Thu, 06 Nov 2025) EllapsedTime: 9.1 seconds RetCode: 0 Status: OK PackageFile: ompBAM_1.14.0.tar.gz PackageFileSize: 3.143 MiB