Package: ompBAM Version: 1.14.0 Command: rm -rf ompBAM.buildbin-libdir && mkdir ompBAM.buildbin-libdir && /Users/biocbuild/BBS/utils/build-universal.sh ompBAM_1.14.0.tar.gz /Library/Frameworks/R.framework/Resources/bin/R ompBAM.buildbin-libdir StartedAt: 2025-11-06 23:15:13 -0500 (Thu, 06 Nov 2025) EndedAt: 2025-11-06 23:15:15 -0500 (Thu, 06 Nov 2025) EllapsedTime: 2.0 seconds RetCode: 0 Status: OK PackageFile: ompBAM_1.14.0.tgz PackageFileSize: 3.146 MiB