Package: ompBAM Version: 1.14.0 Command: /Library/Frameworks/R.framework/Resources/bin/R CMD INSTALL ompBAM StartedAt: 2025-11-17 16:51:03 -0500 (Mon, 17 Nov 2025) EndedAt: 2025-11-17 16:51:04 -0500 (Mon, 17 Nov 2025) EllapsedTime: 1.0 seconds RetCode: 0 Status: OK