Package: ompBAM Version: 1.14.0 Command: /Library/Frameworks/R.framework/Resources/bin/R CMD build --keep-empty-dirs --no-resave-data ompBAM StartedAt: 2025-11-17 23:29:43 -0500 (Mon, 17 Nov 2025) EndedAt: 2025-11-17 23:29:53 -0500 (Mon, 17 Nov 2025) EllapsedTime: 10.1 seconds RetCode: 0 Status: OK PackageFile: ompBAM_1.14.0.tar.gz PackageFileSize: 3.143 MiB