Package: ompBAM Version: 1.14.0 Command: rm -rf ompBAM.buildbin-libdir && mkdir ompBAM.buildbin-libdir && /Users/biocbuild/BBS/utils/build-universal.sh ompBAM_1.14.0.tar.gz /Library/Frameworks/R.framework/Resources/bin/R ompBAM.buildbin-libdir StartedAt: 2025-11-18 16:04:13 -0500 (Tue, 18 Nov 2025) EndedAt: 2025-11-18 16:04:15 -0500 (Tue, 18 Nov 2025) EllapsedTime: 2.0 seconds RetCode: 0 Status: OK PackageFile: ompBAM_1.14.0.tgz PackageFileSize: 3.146 MiB