Package: omicsViewer Version: 1.13.2 Command: /home/biocbuild/bbs-3.22-bioc/R/bin/R CMD INSTALL omicsViewer StartedAt: 2025-10-24 15:35:56 -0400 (Fri, 24 Oct 2025) EndedAt: 2025-10-24 15:36:30 -0400 (Fri, 24 Oct 2025) EllapsedTime: 33.9 seconds RetCode: 0 Status: OK