Package: omicsViewer Version: 1.13.2 Command: /home/biocbuild/bbs-3.22-bioc/R/bin/R CMD build --keep-empty-dirs --no-resave-data --md5 omicsViewer StartedAt: 2025-10-24 19:14:36 -0400 (Fri, 24 Oct 2025) EndedAt: 2025-10-24 19:15:30 -0400 (Fri, 24 Oct 2025) EllapsedTime: 54.0 seconds RetCode: 0 Status: OK PackageFile: omicsViewer_1.13.2.tar.gz PackageFileSize: 4.328 MiB