Package: omicsViewer Version: 1.14.0 Command: /Library/Frameworks/R.framework/Resources/bin/R CMD INSTALL omicsViewer StartedAt: 2025-11-10 15:15:47 -0500 (Mon, 10 Nov 2025) EndedAt: 2025-11-10 15:16:00 -0500 (Mon, 10 Nov 2025) EllapsedTime: 13.0 seconds RetCode: 0 Status: OK