Package: omicsViewer Version: 1.14.0 Command: /Library/Frameworks/R.framework/Resources/bin/R CMD build --keep-empty-dirs --no-resave-data omicsViewer StartedAt: 2025-11-10 17:15:22 -0500 (Mon, 10 Nov 2025) EndedAt: 2025-11-10 17:15:44 -0500 (Mon, 10 Nov 2025) EllapsedTime: 22.3 seconds RetCode: 0 Status: OK PackageFile: omicsViewer_1.14.0.tar.gz PackageFileSize: 4.332 MiB