Package: omicsViewer Version: 1.14.0 Command: rm -rf omicsViewer.buildbin-libdir && mkdir omicsViewer.buildbin-libdir && /Users/biocbuild/BBS/utils/build-universal.sh omicsViewer_1.14.0.tar.gz /Library/Frameworks/R.framework/Resources/bin/R omicsViewer.buildbin-libdir StartedAt: 2025-11-10 23:30:09 -0500 (Mon, 10 Nov 2025) EndedAt: 2025-11-10 23:30:24 -0500 (Mon, 10 Nov 2025) EllapsedTime: 15.3 seconds RetCode: 0 Status: OK PackageFile: omicsViewer_1.14.0.tgz PackageFileSize: 4.403 MiB