Package: omicsPrint Version: 1.30.0 Command: /home/biocbuild/bbs-3.22-bioc/R/bin/R CMD INSTALL omicsPrint StartedAt: 2025-11-17 17:28:56 -0500 (Mon, 17 Nov 2025) EndedAt: 2025-11-17 17:29:22 -0500 (Mon, 17 Nov 2025) EllapsedTime: 26.4 seconds RetCode: 0 Status: OK