Package: omicsPrint Version: 1.30.0 Command: /home/biocbuild/bbs-3.22-bioc/R/bin/R CMD build --keep-empty-dirs --no-resave-data --md5 omicsPrint StartedAt: 2025-11-17 22:30:19 -0500 (Mon, 17 Nov 2025) EndedAt: 2025-11-17 22:31:26 -0500 (Mon, 17 Nov 2025) EllapsedTime: 67.1 seconds RetCode: 0 Status: OK PackageFile: omicsPrint_1.30.0.tar.gz PackageFileSize: 4.294 MiB