Package: omada Version: 1.12.0 Command: /home/biocbuild/bbs-3.22-bioc/R/bin/R CMD INSTALL omada StartedAt: 2025-11-17 17:11:16 -0500 (Mon, 17 Nov 2025) EndedAt: 2025-11-17 17:11:27 -0500 (Mon, 17 Nov 2025) EllapsedTime: 11.5 seconds RetCode: 0 Status: OK