Package: omada Version: 1.12.0 Command: /home/biocbuild/bbs-3.22-bioc/R/bin/R CMD build --keep-empty-dirs --no-resave-data --md5 omada StartedAt: 2025-11-17 22:29:38 -0500 (Mon, 17 Nov 2025) EndedAt: 2025-11-17 22:31:32 -0500 (Mon, 17 Nov 2025) EllapsedTime: 114.2 seconds RetCode: 0 Status: OK PackageFile: omada_1.12.0.tar.gz PackageFileSize: 181.6 KiB