Package: octad Version: 1.12.0 Command: /home/biocbuild/bbs-3.22-bioc/R/bin/R CMD INSTALL octad StartedAt: 2025-10-29 22:13:22 -0400 (Wed, 29 Oct 2025) EndedAt: 2025-10-29 22:14:22 -0400 (Wed, 29 Oct 2025) EllapsedTime: 60.4 seconds RetCode: 0 Status: OK