Package: octad Version: 1.12.0 Command: /home/biocbuild/bbs-3.22-bioc/R/bin/R CMD build --keep-empty-dirs --no-resave-data --md5 octad StartedAt: 2025-10-30 01:27:33 -0400 (Thu, 30 Oct 2025) EndedAt: 2025-10-30 01:31:00 -0400 (Thu, 30 Oct 2025) EllapsedTime: 207.2 seconds RetCode: 0 Status: OK PackageFile: octad_1.12.0.tar.gz PackageFileSize: 1.33 MiB