Package: nullranges Version: 1.15.1 Command: /home/biocbuild/bbs-3.22-bioc/R/bin/R CMD INSTALL nullranges StartedAt: 2025-10-24 15:44:19 -0400 (Fri, 24 Oct 2025) EndedAt: 2025-10-24 15:44:57 -0400 (Fri, 24 Oct 2025) EllapsedTime: 38.0 seconds RetCode: 0 Status: OK