Package: nullranges Version: 1.15.1 Command: /home/biocbuild/bbs-3.22-bioc/R/bin/R CMD build --keep-empty-dirs --no-resave-data --md5 nullranges StartedAt: 2025-10-24 19:12:41 -0400 (Fri, 24 Oct 2025) EndedAt: 2025-10-24 19:14:58 -0400 (Fri, 24 Oct 2025) EllapsedTime: 137.2 seconds RetCode: 0 Status: OK PackageFile: nullranges_1.15.1.tar.gz PackageFileSize: 4.789 MiB