Package: nucleoSim Version: 1.38.0 Command: /home/biocbuild/bbs-3.22-bioc/R/bin/R CMD INSTALL nucleoSim StartedAt: 2025-10-29 22:15:34 -0400 (Wed, 29 Oct 2025) EndedAt: 2025-10-29 22:15:41 -0400 (Wed, 29 Oct 2025) EllapsedTime: 7.0 seconds RetCode: 0 Status: OK