Package: nucleR Version: 2.41.1 Command: /home/biocbuild/bbs-3.22-bioc/R/bin/R CMD INSTALL nucleR StartedAt: 2025-10-28 15:51:40 -0400 (Tue, 28 Oct 2025) EndedAt: 2025-10-28 15:52:17 -0400 (Tue, 28 Oct 2025) EllapsedTime: 36.7 seconds RetCode: 0 Status: OK