Package: nucleR Version: 2.41.1 Command: /home/biocbuild/bbs-3.22-bioc/R/bin/R CMD build --keep-empty-dirs --no-resave-data --md5 nucleR StartedAt: 2025-10-28 19:02:42 -0400 (Tue, 28 Oct 2025) EndedAt: 2025-10-28 19:03:44 -0400 (Tue, 28 Oct 2025) EllapsedTime: 62.1 seconds RetCode: 0 Status: OK PackageFile: nucleR_2.41.1.tar.gz PackageFileSize: 1.801 MiB