Package: notame Version: 1.0.0 Command: /home/biocbuild/bbs-3.22-bioc/R/bin/R CMD INSTALL notame StartedAt: 2025-11-06 15:24:19 -0500 (Thu, 06 Nov 2025) EndedAt: 2025-11-06 15:24:44 -0500 (Thu, 06 Nov 2025) EllapsedTime: 25.5 seconds RetCode: 0 Status: OK