Package: normr Version: 1.36.0 Command: /home/biocbuild/bbs-3.22-bioc/R/bin/R CMD INSTALL normr StartedAt: 2025-11-10 15:32:21 -0500 (Mon, 10 Nov 2025) EndedAt: 2025-11-10 15:33:13 -0500 (Mon, 10 Nov 2025) EllapsedTime: 51.7 seconds RetCode: 0 Status: OK