Package: normr Version: 1.36.0 Command: /home/biocbuild/bbs-3.22-bioc/R/bin/R CMD build --keep-empty-dirs --no-resave-data --md5 normr StartedAt: 2025-11-10 19:09:04 -0500 (Mon, 10 Nov 2025) EndedAt: 2025-11-10 19:10:22 -0500 (Mon, 10 Nov 2025) EllapsedTime: 78.1 seconds RetCode: 0 Status: OK PackageFile: normr_1.36.0.tar.gz PackageFileSize: 3.668 MiB