Package: normalize450K Version: 1.37.0 Command: /home/biocbuild/bbs-3.22-bioc/R/bin/R CMD INSTALL normalize450K StartedAt: 2025-10-24 16:08:15 -0400 (Fri, 24 Oct 2025) EndedAt: 2025-10-24 16:08:31 -0400 (Fri, 24 Oct 2025) EllapsedTime: 15.9 seconds RetCode: 0 Status: OK