Package: nnSVG Version: 1.14.0 Command: /home/biocbuild/bbs-3.22-bioc/R/bin/R CMD INSTALL nnSVG StartedAt: 2025-11-06 15:23:06 -0500 (Thu, 06 Nov 2025) EndedAt: 2025-11-06 15:23:28 -0500 (Thu, 06 Nov 2025) EllapsedTime: 22.6 seconds RetCode: 0 Status: OK