Package: nnSVG Version: 1.14.0 Command: /home/biocbuild/bbs-3.22-bioc/R/bin/R CMD build --keep-empty-dirs --no-resave-data --md5 nnSVG StartedAt: 2025-11-06 19:02:16 -0500 (Thu, 06 Nov 2025) EndedAt: 2025-11-06 19:07:41 -0500 (Thu, 06 Nov 2025) EllapsedTime: 325.3 seconds RetCode: 0 Status: OK PackageFile: nnSVG_1.14.0.tar.gz PackageFileSize: 1.377 MiB