Package: nnNorm Version: 2.74.0 Command: /home/biocbuild/bbs-3.22-bioc/R/bin/R CMD INSTALL nnNorm StartedAt: 2025-11-16 15:04:49 -0500 (Sun, 16 Nov 2025) EndedAt: 2025-11-16 15:05:04 -0500 (Sun, 16 Nov 2025) EllapsedTime: 14.6 seconds RetCode: 0 Status: OK