Package: netresponse Version: 1.69.0 Command: /home/biocbuild/bbs-3.22-bioc/R/bin/R CMD INSTALL netresponse StartedAt: 2025-10-27 15:17:08 -0400 (Mon, 27 Oct 2025) EndedAt: 2025-10-27 15:17:19 -0400 (Mon, 27 Oct 2025) EllapsedTime: 10.9 seconds RetCode: 0 Status: OK