Package: netresponse Version: 1.70.0 Command: /Library/Frameworks/R.framework/Resources/bin/R CMD INSTALL netresponse StartedAt: 2025-11-10 15:08:49 -0500 (Mon, 10 Nov 2025) EndedAt: 2025-11-10 15:08:54 -0500 (Mon, 10 Nov 2025) EllapsedTime: 5.2 seconds RetCode: 0 Status: OK